BEGIN:VCALENDAR
VERSION:2.0
PRODID:-//Acadiana Legal Service Corporation - ECPv6.15.20//NONSGML v1.0//EN
CALSCALE:GREGORIAN
METHOD:PUBLISH
X-WR-CALNAME:Acadiana Legal Service Corporation
X-ORIGINAL-URL:https://www.la-law.org
X-WR-CALDESC:Events for Acadiana Legal Service Corporation
REFRESH-INTERVAL;VALUE=DURATION:PT1H
X-Robots-Tag:noindex
X-PUBLISHED-TTL:PT1H
BEGIN:VTIMEZONE
TZID:America/Chicago
BEGIN:DAYLIGHT
TZOFFSETFROM:-0600
TZOFFSETTO:-0500
TZNAME:CDT
DTSTART:20240310T080000
END:DAYLIGHT
BEGIN:STANDARD
TZOFFSETFROM:-0500
TZOFFSETTO:-0600
TZNAME:CST
DTSTART:20241103T070000
END:STANDARD
BEGIN:DAYLIGHT
TZOFFSETFROM:-0600
TZOFFSETTO:-0500
TZNAME:CDT
DTSTART:20250309T080000
END:DAYLIGHT
BEGIN:STANDARD
TZOFFSETFROM:-0500
TZOFFSETTO:-0600
TZNAME:CST
DTSTART:20251102T070000
END:STANDARD
BEGIN:DAYLIGHT
TZOFFSETFROM:-0600
TZOFFSETTO:-0500
TZNAME:CDT
DTSTART:20260308T080000
END:DAYLIGHT
BEGIN:STANDARD
TZOFFSETFROM:-0500
TZOFFSETTO:-0600
TZNAME:CST
DTSTART:20261101T070000
END:STANDARD
BEGIN:DAYLIGHT
TZOFFSETFROM:-0600
TZOFFSETTO:-0500
TZNAME:CDT
DTSTART:20270314T080000
END:DAYLIGHT
BEGIN:STANDARD
TZOFFSETFROM:-0500
TZOFFSETTO:-0600
TZNAME:CST
DTSTART:20271107T070000
END:STANDARD
END:VTIMEZONE
BEGIN:VEVENT
DTSTART;VALUE=DATE:20260217
DTEND;VALUE=DATE:20260218
DTSTAMP:20260420T071401
CREATED:20251217T214952Z
LAST-MODIFIED:20251217T215145Z
UID:10000247-1771286400-1771372799@www.la-law.org
SUMMARY:Mardi Gras Office Closure
DESCRIPTION:🎉 All offices will be closed on February 17\, 2026\, to celebrate the vibrant spirit of Mardi Gras! 💜 💚 💛 We’ll be back and ready to assist you on Wednesday\, February 18\, 2026\, at 8:30 am. 💜 💚 💛
URL:https://www.la-law.org/event/mardi-gras-office-closure/
CATEGORIES:Holidays
ATTACH;FMTTYPE=image/png:https://www.la-law.org/wp-content/uploads/2025/12/OfficeClosures_Holidays-4-OfficeClosure-Holiday16-9.png
END:VEVENT
BEGIN:VEVENT
DTSTART;TZID=America/Chicago:20260119T080000
DTEND;TZID=America/Chicago:20260119T170000
DTSTAMP:20260420T071401
CREATED:20251217T173126Z
LAST-MODIFIED:20251217T212739Z
UID:10000245-1768809600-1768842000@www.la-law.org
SUMMARY:Martin Luther King Jr. Day Office Closure
DESCRIPTION:🌟 Please note: Our offices will be closed on January 19\, 2026\, in honor of Martin Luther King Jr. Day. We’ll be back to serve you bright and early on Tuesday\, January 20\, 2026\, at 8:30 AM. ✨
URL:https://www.la-law.org/event/martin-luther-king-jr-day-office-closure/
CATEGORIES:Holidays
ATTACH;FMTTYPE=image/png:https://www.la-law.org/wp-content/uploads/2025/12/OfficeClosures_Holidays-2-OfficeClosure-Holiday16-9-1-1.png
END:VEVENT
BEGIN:VEVENT
DTSTART;TZID=America/Chicago:20251224T080000
DTEND;TZID=America/Chicago:20251226T170000
DTSTAMP:20260420T071401
CREATED:20251217T170312Z
LAST-MODIFIED:20251217T170312Z
UID:10000244-1766563200-1766768400@www.la-law.org
SUMMARY:Christmas Holiday Office Closure
DESCRIPTION:🎄 Our offices will be closed from December 24-26\, 2025\, to celebrate the joy of Christmas! 🎉 We’ll be back and ready to assist you on Monday\, December 29\, 2025\, at 8:30 am. Enjoy the festivities!
URL:https://www.la-law.org/event/christmas-holiday-office-closure/
ATTACH;FMTTYPE=image/png:https://www.la-law.org/wp-content/uploads/2025/12/OfficeClosures_Holidays-2-OfficeClosure-X-1.png
END:VEVENT
END:VCALENDAR