BEGIN:VCALENDAR
VERSION:2.0
PRODID:-//Acadiana Legal Service Corporation - ECPv6.15.20//NONSGML v1.0//EN
CALSCALE:GREGORIAN
METHOD:PUBLISH
X-ORIGINAL-URL:https://www.la-law.org
X-WR-CALDESC:Events for Acadiana Legal Service Corporation
REFRESH-INTERVAL;VALUE=DURATION:PT1H
X-Robots-Tag:noindex
X-PUBLISHED-TTL:PT1H
BEGIN:VTIMEZONE
TZID:America/Chicago
BEGIN:DAYLIGHT
TZOFFSETFROM:-0600
TZOFFSETTO:-0500
TZNAME:CDT
DTSTART:20190310T080000
END:DAYLIGHT
BEGIN:STANDARD
TZOFFSETFROM:-0500
TZOFFSETTO:-0600
TZNAME:CST
DTSTART:20191103T070000
END:STANDARD
BEGIN:DAYLIGHT
TZOFFSETFROM:-0600
TZOFFSETTO:-0500
TZNAME:CDT
DTSTART:20200308T080000
END:DAYLIGHT
BEGIN:STANDARD
TZOFFSETFROM:-0500
TZOFFSETTO:-0600
TZNAME:CST
DTSTART:20201101T070000
END:STANDARD
BEGIN:DAYLIGHT
TZOFFSETFROM:-0600
TZOFFSETTO:-0500
TZNAME:CDT
DTSTART:20210314T080000
END:DAYLIGHT
BEGIN:STANDARD
TZOFFSETFROM:-0500
TZOFFSETTO:-0600
TZNAME:CST
DTSTART:20211107T070000
END:STANDARD
END:VTIMEZONE
BEGIN:VEVENT
DTSTART;TZID=America/Chicago:20200312T090000
DTEND;TZID=America/Chicago:20200312T110000
DTSTAMP:20260423T065114
CREATED:20200211T205100Z
LAST-MODIFIED:20200214T174526Z
UID:10000165-1584003600-1584010800@www.la-law.org
SUMMARY:Know Your Rights Workshop
DESCRIPTION:Hosted by ALSC\, Know Your Rights Workshops educate individuals\, seniors\, domestic violence survivors\, and the community at large on civil law topics such as bankruptcy\, collection\, job discrimination\, child custody and visitation\, divorce\, domestic abuse\, child abuse and neglect\, Medicaid\, Medicare\, landlord-tenant issues and so much more.
URL:https://www.la-law.org/event/jeff-davis-parish-outreach/
LOCATION:Jeff Davis COA\, 210 S. State Street\, Jennings\, Louisiana
CATEGORIES:Community Legal Education Presentations,Community Outreach
END:VEVENT
BEGIN:VEVENT
DTSTART;TZID=America/Chicago:20200312T110000
DTEND;TZID=America/Chicago:20200312T140000
DTSTAMP:20260423T065114
CREATED:20200221T171530Z
LAST-MODIFIED:20200221T171530Z
UID:10000169-1584010800-1584021600@www.la-law.org
SUMMARY:Know Your Rights Workshop
DESCRIPTION:Hosted by ALSC\, this free workshop provides information for individuals\, seniors\, domestic violence survivors\, and the community at large on civil law topics such as bankruptcy\, collection\, job discrimination\, child custody and visitation\, divorce\, domestic abuse\, child abuse and neglect\, Medicaid\, Medicare\, landlord-tenant issues and so much more.
URL:https://www.la-law.org/event/know-your-rights-workshop/
LOCATION:Assist Agency\, 307 E. Nezpique Street\, Jennings\, La
CATEGORIES:Community Legal Education Presentations,Community Outreach,Meetings
END:VEVENT
END:VCALENDAR